BEGIN:VCALENDAR
VERSION:2.0
PRODID:-//Health Days - ECPv4.6.20.1//NONSGML v1.0//EN
CALSCALE:GREGORIAN
METHOD:PUBLISH
X-WR-CALNAME:Health Days
X-ORIGINAL-URL:https://www.healthdays.gr
X-WR-CALDESC:Events for Health Days
BEGIN:VEVENT
DTSTART;VALUE=DATE:20260518
DTEND;VALUE=DATE:20260519
DTSTAMP:20260425T131403
CREATED:20170331T081358Z
LAST-MODIFIED:20170331T081358Z
UID:1716-1779062400-1779148799@www.healthdays.gr
SUMMARY:Παγκόσμια Ημέρα Ενημέρωσης για το Εμβόλιο κατά του AIDS
DESCRIPTION:
URL:https://www.healthdays.gr/world-day/%cf%80%ce%b1%ce%b3%ce%ba%cf%8c%cf%83%ce%bc%ce%b9%ce%b1-%ce%b7%ce%bc%ce%ad%cf%81%ce%b1-%ce%b5%ce%bd%ce%b7%ce%bc%ce%ad%cf%81%cf%89%cf%83%ce%b7%cf%82-%ce%b3%ce%b9%ce%b1-%cf%84%ce%bf-%ce%b5%ce%bc%ce%b2/2026-05-18/
CATEGORIES:Υγεία
END:VEVENT
END:VCALENDAR