BEGIN:VCALENDAR
VERSION:2.0
PRODID:-//Health Days - ECPv4.6.20.1//NONSGML v1.0//EN
CALSCALE:GREGORIAN
METHOD:PUBLISH
X-WR-CALNAME:Health Days
X-ORIGINAL-URL:https://www.healthdays.gr
X-WR-CALDESC:Events for Health Days
BEGIN:VEVENT
DTSTART;VALUE=DATE:20260517
DTEND;VALUE=DATE:20260518
DTSTAMP:20260425T114109
CREATED:20170331T081439Z
LAST-MODIFIED:20170331T081439Z
UID:1715-1778976000-1779062399@www.healthdays.gr
SUMMARY:Παγκόσμια Ημέρα κατά της Υπέρτασης
DESCRIPTION:
URL:https://www.healthdays.gr/world-day/%cf%80%ce%b1%ce%b3%ce%ba%cf%8c%cf%83%ce%bc%ce%b9%ce%b1-%ce%b7%ce%bc%ce%ad%cf%81%ce%b1-%ce%ba%ce%b1%cf%84%ce%ac-%cf%84%ce%b7%cf%82-%cf%85%cf%80%ce%ad%cf%81%cf%84%ce%b1%cf%83%ce%b7%cf%82/2026-05-17/
CATEGORIES:Υγεία
END:VEVENT
END:VCALENDAR