BEGIN:VCALENDAR
VERSION:2.0
PRODID:-//Health Days - ECPv4.6.20.1//NONSGML v1.0//EN
CALSCALE:GREGORIAN
METHOD:PUBLISH
X-WR-CALNAME:Health Days
X-ORIGINAL-URL:https://www.healthdays.gr
X-WR-CALDESC:Events for Health Days
BEGIN:VEVENT
DTSTART;VALUE=DATE:20260429
DTEND;VALUE=DATE:20260430
DTSTAMP:20260424T135720
CREATED:20170331T083531Z
LAST-MODIFIED:20170331T083531Z
UID:1704-1777420800-1777507199@www.healthdays.gr
SUMMARY:Παγκόσμια Ημέρα Ανοσολογίας
DESCRIPTION:
URL:https://www.healthdays.gr/world-day/%cf%80%ce%b1%ce%b3%ce%ba%cf%8c%cf%83%ce%bc%ce%b9%ce%b1-%ce%b7%ce%bc%ce%ad%cf%81%ce%b1-%ce%b1%ce%bd%ce%bf%cf%83%ce%bf%ce%bb%ce%bf%ce%b3%ce%af%ce%b1%cf%82/2026-04-29/
CATEGORIES:Υγεία
END:VEVENT
END:VCALENDAR