BEGIN:VCALENDAR
VERSION:2.0
PRODID:-//Health Days - ECPv4.6.20.1//NONSGML v1.0//EN
CALSCALE:GREGORIAN
METHOD:PUBLISH
X-WR-CALNAME:Health Days
X-ORIGINAL-URL:https://www.healthdays.gr
X-WR-CALDESC:Events for Health Days
BEGIN:VEVENT
DTSTART;VALUE=DATE:20260428
DTEND;VALUE=DATE:20260429
DTSTAMP:20260424T141039
CREATED:20170116T141158Z
LAST-MODIFIED:20170116T141158Z
UID:1703-1777334400-1777420799@www.healthdays.gr
SUMMARY:Παγκόσμια Ημέρα για την Υγεία και την Ασφάλεια στην Εργασία / Διεθνής Ημέρα Μνήμης Εργατών
DESCRIPTION:Κάθε χρόνο στις 28 Απριλίου γιορτάζουμε την Παγκόσμια Ημέρα για την Υγεία και την Ασφάλεια στην Εργασία με πρωτοβουλία της Διεθνούς Οργάνωσης Εργασίας ( ΔΟΕ) . Στόχος της συγκεκριμένης ημέρα είναι η επικέντρωση στην πρόληψη ατυχημάτων και επαγγελματικών ασθενειών. \nΣύμφωνα με τα επίσημα στοιχεία της ΔΟΕ : \n\n000.000 άνθρωποι χάνουν τη ζωή από εργατικά ατυχήματα και επαγγελματικές ασθένειες\, κάθε χρόνο\, σε όλο τον κόσμο.\nΣε 270.000.000 υπολογίζονται τα εργατικά ατυχήματα και 160.000.000 τα περιστατικά επαγγελματικών ασθενειών.\n000 εργαζόμενοι χάνουν τη ζωή τους από επικίνδυνες ουσίες (100.000 από άσβεστο).\nΈνας εργαζόμενος πεθαίνει κάθε 15 δευτερόλεπτα\, 6.000 κάθε ημέρα.\nΤο συνολικό κόστος των ατυχημάτων και ασθενειών ανέρχεται ετησίως στο 4% του ακαθάριστου παγκόσμιου προϊόντος\n\nΗ Παγκόσμια Ημέρα για την Υγεία και την Ασφάλεια στην Εργασία  προέρχεται  από τη Διεθνή Ημέρα Μνήμης Εργατών\, που γιορτάζεται την ίδια ημερομηνία από το 1984. Η 28η Απριλίου επιλέγει συμβολικά\, επειδή την ημερομηνία αυτή του 1914 ψηφίσθηκε από την Καναδική Βουλή ο νόμος για την αποζημίωση των εργαζόμενων από εργατικά ατυχήματα. \nΗ Διεθνής Οργάνωση Εργασίας (Οργανισμός του ΟΗΕ) καθιέρωσε την ημέρα αυτή από το 2001\, προκειμένου να διευρύνει το περιεχόμενό της με την ιδέα της αειφόρου εργασίας. Μέρα αφύπνισης και αγώνα για ενεργοποίηση όλων των εμπλεκομένων φορέων και κυρίως των αρμόδιων οργάνων της πολιτείας που πρέπει επιτέλους να αναλάβουν πρωτοβουλίες και τις ευθύνες τους έναντι των εργαζόμενων για την εξασφαλίσει των συνθηκών ασφάλειας στην εργασία. Η 28η Απριλίου είναι μέρα μνήμης και τιμής για τα θύματα εργατικών ατυχημάτων και σοβαρών εργατικών τραυματισμών. \nΕίναι απαράδεκτο και ανεπίτρεπτο μια ευνομούμενη και σύγχρονη χώρα να ανέχεται την υπέρ-κερδοφορία σε βάρος της υγείας και ασφάλειας των εργαζόμενων. Απαιτείται άμεσα η ενεργοποίηση όλων των ελεγκτικών μηχανισμών και η ίδρυση φορέα ασφάλισης επαγγελματικού κίνδυνου\, με σκοπό την πρόληψη αποκατάσταση αποζημίωση των εργατικών ατυχημάτων και των επαγγελματικών ασθενειών. Τίποτα δεν αξίζει περισσότερο από την ανθρώπινη ζωή\, το εργατικό ατύχημα είναι δυνατόν να το προλάβεις\, όμως είναι αδύνατον να το κοστολογήσεις. \nΗ υγεία και ασφάλεια πρέπει να ριζώσει στη συνείδηση των εργαζόμενων\, και σε συνεργασία με τις διευθύνσεις των εργοστασίων και επιχειρήσεων πρέπει να εντείνουν τις προσπάθειες και τον αγώνα τους για να εξασφαλίσουν τις αναγκαίες συνθήκες υγείας και ασφάλειας στην εργασία και για το μηδενισμό των εργατικών ατυχημάτων. \n  \n  \nΓια περισσότερες πληροφορίες επισκεφθείτε το Ελληνικό Ινστιτούτο Υγιεινής και Ασφάλειας της Εργασίας  http://www.elinyae.gr/ . \n
URL:https://www.healthdays.gr/world-day/%cf%80%ce%b1%ce%b3%ce%ba%cf%8c%cf%83%ce%bc%ce%b9%ce%b1-%ce%b7%ce%bc%ce%ad%cf%81%ce%b1-%ce%b3%ce%b9%ce%b1-%cf%84%ce%b7%ce%bd-%cf%85%ce%b3%ce%b5%ce%af%ce%b1-%ce%ba%ce%b1%ce%b9-%cf%84%ce%b7%ce%bd-%ce%b1/2026-04-28/
CATEGORIES:Υγεία
ATTACH;FMTTYPE=image/gif:https://www.healthdays.gr/wp-content/uploads/2017/01/Παγκόσμια-Ημέρα-για-την-Υγεία-και-την-Ασφάλεια-στην-Εργασία-Διεθνής-Ημέρα-Μνήμης-Εργατών.gif
END:VEVENT
END:VCALENDAR