BEGIN:VCALENDAR
VERSION:2.0
PRODID:-//Health Days - ECPv4.6.20.1//NONSGML v1.0//EN
CALSCALE:GREGORIAN
METHOD:PUBLISH
X-WR-CALNAME:Health Days
X-ORIGINAL-URL:https://www.healthdays.gr
X-WR-CALDESC:Events for Health Days
BEGIN:VEVENT
DTSTART;VALUE=DATE:20260407
DTEND;VALUE=DATE:20260408
DTSTAMP:20260422T143330
CREATED:20161113T115245Z
LAST-MODIFIED:20161113T115245Z
UID:1698-1775520000-1775606399@www.healthdays.gr
SUMMARY:Παγκόσμια Ημέρα Υγείας
DESCRIPTION:Κάθε χρόνο γιορτάζουμε στις 7 Απριλίου την Παγκόσμια Ημέρα Υγείας . Η συγκεκριμένη ημέρα επικεντρώνεται σε διάφορα ζητήματα της δημόσιας υγείας που απασχολούν όλο το κόσμο. Το 1948 εκείνης της ημερομηνίας συστάθηκε ο Παγκόσμιος Οργανισμός Υγείας \, ένα σημαντικό όργανο του ΟΗΕ που εξειδικεύεται σε θέματα υγείας. \nH φετινή Παγκόσμια Ημέρα Υγείας (2017) είναι αφιερωμένη στην κατάθλιψη. \nΜε τον όρο κατάθλιψη εννοούμε την ψυχική ασθένεια που σχετίζεται με την παροδική κατάσταση θλίψης και μελαγχολίας  αλλά όταν τα συμπτώματα διαρκούν πάνω από δύο εβδομάδες τότε οδηγούμαστε στην Κλινική Κατάθλιψη. Όταν κάποιος πάσχει από κατάθλιψή τότε νιώθει  συνέχεια λύπη \,απόγνωση και απογοήτευση . \nΓια την Ελλάδα τα στατιστικά στοιχεία δείχνουν ότι : \n\nτο 4\,7% του πληθυσμού πάσχει από κατάθλιψη\nη κατάθλιψη παρουσίασε αύξηση 80\,8%\, περισσότερο στις γυναίκες\nτο 11\,3 % αδυνατεί να αγοράσει τα φάρμακά του\nτο 13\,6% δεν έχει την οικονομική δυνατότητα να λάβει ιατρική φροντίδα ή θεραπεία.\n\n  \n  \nΗ κατάθλιψη οφείλεται σε παράγοντες όπως : \n\nΠεριβάλλον Απώλεια αγαπημένου προσώπου \,οικογενειακές διαφωνίες \, οικονομικές δυσκολίες ή και άσχημες καιρικές συνθήκες.\n\n  \n\nΨυχολογικοί Παράγοντες Έλλειψη αυτοσεβασμού και πεσιμιστικές σκέψεις.\nΒιολογικοί Παράγοντες Κληρονομικοί \, ορμονικοί και εποχιακοί παράγοντες.\n\nΗ κατάθλιψη θεραπεύεται με : \n\nαντικαταθλιπτικά\nψυχοθεραπεία\nΗλεκτροσπασμοθεραπεία\nΕπαναληπτικό Διακρανιακό Μαγνητικό Ερεθισμό\nΚρύα Υδροθεραπεία\nΧοροθεραπεία\n\n  \nΗ κατάθλιψή μπορεί να προληφθεί και να καταπολεμηθεί βέβαια : \n\nμέσω της άσκησης Η άσκηση βελτιώνει την ψυχική υγεία και τονώνει την αυτοπεποίθηση του ατόμου\nμε την κατάλληλη διατροφή Βασισμένη στα καλά λιπαρά και ω3 (ελαιόλαδο και ψάρια)\n\n  \nΓια περισσότερες πληροφορίες επισκεφθείτε τους εξής συλλόγους αυτοβοήθειας : \nMAZI\, ΨΥΧΟΓΡΑΦΗΜΑΤΑ και ΕΔΟ.  \n
URL:https://www.healthdays.gr/world-day/%cf%80%ce%b1%ce%b3%ce%ba%cf%8c%cf%83%ce%bc%ce%b9%ce%b1-%ce%b7%ce%bc%ce%ad%cf%81%ce%b1-%cf%85%ce%b3%ce%b5%ce%af%ce%b1%cf%82/2026-04-07/
CATEGORIES:Υγεία
ATTACH;FMTTYPE=image/jpeg:https://www.healthdays.gr/wp-content/uploads/2016/11/Παγκόσμια-Ημέρα-Υγείας.jpg
END:VEVENT
END:VCALENDAR