BEGIN:VCALENDAR
VERSION:2.0
PRODID:-//Health Days - ECPv4.6.20.1//NONSGML v1.0//EN
CALSCALE:GREGORIAN
METHOD:PUBLISH
X-WR-CALNAME:Health Days
X-ORIGINAL-URL:https://www.healthdays.gr
X-WR-CALDESC:Events for Health Days
BEGIN:VEVENT
DTSTART;VALUE=DATE:20260330
DTEND;VALUE=DATE:20260331
DTSTAMP:20260422T141053
CREATED:20170331T075618Z
LAST-MODIFIED:20170331T075618Z
UID:1695-1774828800-1774915199@www.healthdays.gr
SUMMARY:Παγκόσμια Ημέρα Διπολικής Διαταραχής
DESCRIPTION:\n\n\nΣτις 30 Μαρτίου γιορτάζουμε την Παγκόσμια ημέρα Διπολικής διαταραχής (Μανιοκατάθλιψης). Αυτή είναι και η ημέρα γέννησης του Vincent Van Gogh ο οποίος θεωρείται ότι έπασχε από τη διπολική διαταραχή.\n\nΗ Παγκόσμια Ημέρα Διπολικής διαταραχής είναι σημαντική ημέρα για να θυμόμαστε τους ανθρώπους με διπολική διαταραχή αλλά και για την ευαισθητοποίηση του ευρύτερου κοινού. Δημιουργήθηκε από τρεις διεθνείς οργανώσεις για τη διπολική διαταραχή (Asian Network of Bipolar disorders\, International Bipolar Foundation\, International Society for Bipolar disorders)\n\nΗ διπολική διαταραχή (ή πιο παλιά μανιοκατάθλιψη) είναι η πιο σοβαρή ψυχική διαταραχή της διάθεσης. Χαρακτηρίζεται κυρίως από επεισόδια Μανίας (ανεβασμένης & εκτός ελέγχου διάθεσης) και επεισόδια Κατάθλιψης (πεσμένης διάθεσης με σημαντική δυσκολία στη λειτουργία). Υπολογίζεται ότι πάσχουν 1-5% του πληθυσμού παγκοσμίως\, δηλαδή περίπου 600.000 Έλληνες ασθενείς. \n\nΤο φάσμα των διπολικών διαταραχών είναι ευρύ και η σωστή θεραπεία τους βασίζεται στη σωστή και πρώιμη διάγνωση καθώς και στην εξειδικευμένη ψυχοκοινωνική και φαρμακευτική παρέμβαση. Η ενημέρωση αποτελεί σημαντικό κομμάτι της καλής πορείας της Διπολικής διαταραχής και βοηθάει και στην αποστιγματοποίησή της.\n\nΗ Ελληνική Διπολική Οργάνωση (ΕΔΟ) υποστηρίζει την Παγκόσμια Ημέρα Διπολικής Διαταραχής οργανώνοντας μία σειρά από ενημερωτικές και ψυχαγωγικές δράσεις με στόχο την ενημέρωση των ασθενών\, των συγγενών τους καθώς και του ευρύτερου κοινού.\n\nΣυνοπτικά οι δράσεις που θα λάβουν μέρος:\n\n1. Ενημερωτική ημερίδα με θέμα τη θεραπεία της Διπολικής διαταραχής (ελεύθερη είσοδος)\n(16 Απριλίου Σάββατο 12:00 – 4:00 μμ\, Aegean College\, Πανεπιστημίου 17\, Αθήνα)\n\n2. Δωρεάν ψυχομετρικές εξετάσεις διάθεσης για ανθρώπους που έχουν δυσκολίες με την διάθεσή τους\n(Καθόλη τη διάρκεια του Απρίλη με τηλεφωνικό ραντεβού στα γραφεία της ΕΔΟ)\n\n3. Ψυχαγωγική ταινία και συζήτηση με θέμα τη Διπολική διαταραχή\n(14 Μαϊου Σάββατο 12:00 – 3:00μμ\, Λέσχη Κινηματογράφου\, Aegean College\, Πανεπιστημίου 17\, Αθήνα)\n\nΠαρακαλούμε όσους ενδιαφέρονται να παρακολουθήσουν και να συμμετέχουν στις ενημερωτικές και ψυχαγωγικές δράσεις να κάνουν εγγραφή στη λίστα συμμετοχής της ΕΔΟ http://register.bipolar.gr ή τηλεφωνικά στο 210-8815970\n\nΗ συμμετοχή σε όλες τις δράσεις θα είναι δωρεάν και ανοιχτή σε όλο το ενδιαφερόμενο κοινό.\n\n\n\n\nRead more: http://medlabgr.blogspot.com/2016/03/blog-post_71.html#ixzz4ct7t5U3P \n
URL:https://www.healthdays.gr/world-day/%cf%80%ce%b1%ce%b3%ce%ba%cf%8c%cf%83%ce%bc%ce%b9%ce%b1-%ce%b7%ce%bc%ce%ad%cf%81%ce%b1-%ce%b4%ce%b9%cf%80%ce%bf%ce%bb%ce%b9%ce%ba%ce%ae%cf%82-%ce%b4%ce%b9%ce%b1%cf%84%ce%b1%cf%81%ce%b1%cf%87%ce%ae/2026-03-30/
CATEGORIES:Υγεία
ATTACH;FMTTYPE=image/jpeg:https://www.healthdays.gr/wp-content/uploads/2017/03/Παγκόσμια-Ημέρα-Διπολικής-Διαταραχής.jpg
END:VEVENT
END:VCALENDAR