BEGIN:VCALENDAR
VERSION:2.0
PRODID:-//Health Days - ECPv4.6.20.1//NONSGML v1.0//EN
CALSCALE:GREGORIAN
METHOD:PUBLISH
X-WR-CALNAME:Health Days
X-ORIGINAL-URL:https://www.healthdays.gr
X-WR-CALDESC:Events for Health Days
BEGIN:VEVENT
DTSTART;VALUE=DATE:20260322
DTEND;VALUE=DATE:20260323
DTSTAMP:20260424T124348
CREATED:20161113T115055Z
LAST-MODIFIED:20161113T115055Z
UID:1693-1774137600-1774223999@www.healthdays.gr
SUMMARY:Παγκόσμια Ημέρα για το Νερό
DESCRIPTION:Η Παγκόσμια Ημέρα για το Νερό γιορτάζεται κάθε χρόνο στις 22 Μαρτίου με πρωτοβουλία της Γενικής Συνέλευσης του ΟΗΕ  σε συνδιάσκεψη που πραγματοποιήθηκε στο Ρίο Ντε Ζανέιρο της Βραζιλίας  στις 22 Δεκέμβρη σχετικά με το Περιβάλλον και την Ανάπτυξη. Στόχος της συγκεκριμένης ημέρας αποτελεί η ευαισθητοποίηση του κοινού όσο αναφορά την μόλυνσή του αλλά και την έλλειψή του σε όλο το κόσμο. \nΣυγκεκριμένα τα στατιστικά στοιχεία από έρευνες της UNICEF αλλά και του ΟΗΕ δείχνουν ότι : \n\nΤο 40% των κατοίκων του πλανήτη σήμερα δεν έχει πρόσβαση σε πόσιμο νερό.\nΤο 80% των ασθενειών στις αναπτυσσόμενες χώρες συνδέεται με το νερό.\n\n  \n\nΚάθε 15 δευτερόλεπτα ένα παιδί σε αναπτυσσόμενες χώρες χάνει τη ζωή του λόγω λειψυδρίας\n\n  \n  \n\nΠάνω από 232 εκατομμύρια άνθρωποι από χώρες του Τρίτου Κόσμου πλήττονται από λειψυδρία.\n\n  \n\nΠερίπου 18 χώρες στην Αφρική και την Ασία βρίσκονται στο όριο των υδατικών αποθεμάτων τους.\n\n  \n\nΗ έλλειψη του νερού θα αναχθεί σε μείζον γεωπολιτικό θέμα\, καθώς το 2050\, ο παγκόσμιος πληθυσμός θα έχει ξεπεράσει τα 9 δισεκατομμύρια και η ζήτηση για νερό θα αυξηθεί κατά 64 κυβικά μέτρα ετησίως.\n\n  \n\nΣτην Αφρική και την Ινδία\, τα παιδιά αναγκάζονται να παρατήσουν το σχολείο για να κουβαλήσουν νερό\, κάτι το οποίο αποτελεί και την κύρια ενασχόλησή τους.\n\n  \nΑπό την άλλη μπορεί στην Ελλάδα να μην υπάρχει στέρηση υδάτινων πόρων αλλά : \n\nο κλάδος της γεωργίας απορροφά το 86% των αποθεμάτων του νερού\, όταν ο ευρωπαϊκός μέσος όρος κινείται περίπου στο 24%.\nη χώρα μας παρουσιάζει το υψηλότερο ποσοστό χρήσης νερού στην άρδευση από άλλες μεσογειακές χώρες\, όπως η Ισπανία και η Πορτογαλία.\nοι ποσότητες νερού που προορίζονται για αστική\, ενεργειακή και βιομηχανική χρήση\, αγγίζουν συνολικά μόλις το 14%.\nεξαιτίας της παλαιότητας των δικτύων της ΕΥΔΑΠ\, στην Αττική\, το 50% του νερού χάνεται λόγω εκτεταμένων διαρροών.\n\n  \nΓια αυτό το λόγο οφείλουμε να προστατεύουμε τους υδάτινους πόρους με τους εξής τρόπους : \n\nνα ελέγχουμε τακτικά την κατάσταση του φρεατίου ύδρευσης\nνα ενημερώνουμε έγκαιρα σε περίπτωση προβλήματος ύδρευσης τους αρμόδιους φορείς\nνα μην σπαταλάμε άσκοπα το νερό (ανοικτές βρύσες κλπ)\n\nΑπό την άλλη οι προμηθευτές νερού οφείλουν : \n\nνα μειώνουν δραστικά τις ιδιαίτερα αυξημένες χρεώσεις\nνα προχωρούν σε αντίστοιχη μείωση του τιμήματος της ύδρευσης\nνα ενημερώνουν έγκαιρα τον καταναλωτή σε περίπτωση αυξημένης κατανάλωσης νερού κατά την καταμέτρηση της παροχής\n\n  \nΓια περισσότερες πληροφορίες επισκεφθείτε  http://en.unesco.org/themes/water-security \n  \n
URL:https://www.healthdays.gr/world-day/%cf%80%ce%b1%ce%b3%ce%ba%cf%8c%cf%83%ce%bc%ce%b9%ce%b1-%ce%b7%ce%bc%ce%ad%cf%81%ce%b1-%ce%b3%ce%b9%ce%b1-%cf%84%ce%bf-%ce%bd%ce%b5%cf%81%cf%8c/2026-03-22/
CATEGORIES:Υγεία
ATTACH;FMTTYPE=image/png:https://www.healthdays.gr/wp-content/uploads/2016/11/Παγκόσμια-Ημέρα-για-το-Νερό.png
END:VEVENT
END:VCALENDAR