BEGIN:VCALENDAR
VERSION:2.0
PRODID:-//Health Days - ECPv4.6.20.1//NONSGML v1.0//EN
CALSCALE:GREGORIAN
METHOD:PUBLISH
X-WR-CALNAME:Health Days
X-ORIGINAL-URL:https://www.healthdays.gr
X-WR-CALDESC:Events for Health Days
BEGIN:VEVENT
DTSTART;VALUE=DATE:20260321
DTEND;VALUE=DATE:20260322
DTSTAMP:20260424T142817
CREATED:20161113T115033Z
LAST-MODIFIED:20161113T115033Z
UID:1692-1774051200-1774137599@www.healthdays.gr
SUMMARY:Παγκόσμια Ημέρα για το Σύνδρομο Down
DESCRIPTION:    Η Παγκόσμια Ημέρα για το Σύνδρομο Down καθιερώθηκε το 2006 από τον Έλληνα ιατρό Γενετικής στο Πανεπιστήμιο της Γενεύης \, Στυλιανό Αντωναράκη και γιορτάζεται κάθε χρόνο από τότε στις 21 Μαρτίου \, από τα αριθμητικά δεδομένα που συνθέτουν το σύνδρομο (3ο χρωμόσωμα στο 21ο ζεύγος=3.21). Στόχος υφίσταται η ευαισθητοποίηση και ενημέρωση της διεθνής κοινότητας . \nΤο σύνδρομο Down είναι μια χρωμοσωμική ανωμαλία με συνέπειες στην σωματική διάπλαση\, νοητική ανάπτυξη και ψυχοκοινωνική εξέλιξη. Στην Ελλάδα 1 στα 770 παιδιά γεννιέται με σύνδρομο Down. Ένας άλλος όρος για το σύνδρομο Down που χρησιμοποιούταν είναι ο Μογγολισμός εξαιτίας του σχήματος των ματιών κάτι που πλέον θεωρείται απρεπές και ανεπίτρεπτο από την επιστημονική κοινότητα. Τα βασικότερα συμπτώματα της ασθένειας είναι τα εξής : \n\nνοητική υστέρηση κυμαίνεται από βαριά (IQ: 20-35) ως ελαφριά (IQ: 50-75)\nβραχυχρόνιας μνήμης\, της ικανότητας σκέψης\, της ομιλίας και της κινητικής\nΧαμηλό ανάστημα και τάση για παχυσαρκία\nαυξημένη συχνότητα εμφάνισηςαυτισμού \, όπως και πρώιμηςνόσου Alzheimer  (από 35 ετών).\nκαρδιακές βλάβες\nενδοκρινοπάθειες\, όπωςυποθυρεοειδισμό ή σακχαρώδη διαβήτη.\nπνεύμονες ευάλωτοι σε λοιμώξεις\nαυξημένη συχνότητα επεισοδίων άπνοιας ύπνου.\nοφθαλμικά προβλήματα\nωτικά προβλήματα\nπροσδόκιμο ζωής μόλις τα 55 χρόνια\nστειρότητα για τους άνδρες\n50% πιθανότητα για τις γυναίκες να γεννήσουν παιδί με σύνδρομο Down\n\nΗ διάγνωση της ασθένειας γίνεται προγεννητικά μέσω υπερηχογραφήματος και εργαστηριακών μετρήσεων ενώ δεν υπάρχει ριζική θεραπεία . Η λήψη φυλλικού οξέος κατά την εγκυμοσύνη έχει δείξει μείωση στην εμφάνιση συνδρόμου Down και φυσικά δεν διαδραματίζει κάποιο ρόλο η κληρονομικότητα εκτός από την περίπτωση  του Μεταθετικού Συνδρόμου Down. Κάτι το οποίο συμβαίνει μόνο σε ποσοστό 3-4% του γενικού συνόλου και από αυτό κληροδοτείται σε ποσοστο 3-12% των περιπτώσεων. \nΗ μόνη λύση είναι η προσπάθεια να γίνουν τα άτομα αυτά ενεργά μέλη της κοινωνίας μέσω της κατάλληλης εκπαίδευσης αλλά και συνεργασίας γονέων και δασκάλων μαζί. \nΓια περισσότερες πληροφορίες επισκεφθείτε τον Σύλλογο Συνδρόμου Down Ελλάδος. \n
URL:https://www.healthdays.gr/world-day/%cf%80%ce%b1%ce%b3%ce%ba%cf%8c%cf%83%ce%bc%ce%b9%ce%b1-%ce%b7%ce%bc%ce%ad%cf%81%ce%b1-%ce%b3%ce%b9%ce%b1-%cf%84%ce%bf-%cf%83%cf%8d%ce%bd%ce%b4%cf%81%ce%bf%ce%bc%ce%bf-down/2026-03-21/
CATEGORIES:Υγεία
ATTACH;FMTTYPE=image/jpeg:https://www.healthdays.gr/wp-content/uploads/2016/11/Παγκόσμια-Ημέρα-για-το-Σύνδρομο-Down.jpg
END:VEVENT
END:VCALENDAR