BEGIN:VCALENDAR
VERSION:2.0
PRODID:-//Health Days - ECPv4.6.20.1//NONSGML v1.0//EN
CALSCALE:GREGORIAN
METHOD:PUBLISH
X-WR-CALNAME:Health Days
X-ORIGINAL-URL:https://www.healthdays.gr
X-WR-CALDESC:Events for Health Days
BEGIN:VEVENT
DTSTART;VALUE=DATE:20160708
DTEND;VALUE=DATE:20160709
DTSTAMP:20260421T111256
CREATED:20161121T114255Z
LAST-MODIFIED:20170102T101646Z
UID:340-1467936000-1468022399@www.healthdays.gr
SUMMARY:Παγκόσμια Ημέρα Αλλεργίας
DESCRIPTION:Η Παγκόσμια Ημέρα Αλλεργίας γιορτάζεται κάθε χρόνο στις 8 Ιουλίου από το 2005 με πρωτοβουλία του Παγκόσμιου Οργανισμού Αλλεργιολογίας . Στόχος της ημέρας είναι η ευαισθητοποίηση του κοινού σχετικά με τις συνέπειες των αλλεργιών στην ανθρώπινη υγεία. \nΤο 22% του πληθυσμού σε παγκόσμιο επίπεδο πάσχει από κάποια μορφή αλλεργίας.  Οι αλλεργίες ευθύνονται άμεσα ή έμμεσα για το θάνατο 180.000 ατόμων κάθε χρόνο\, παγκοσμίως.  \nΤα στατιστικά στοιχεία για την Ελλάδα δείχνουν ότι : \n\nΤα κρούσματα αλλεργικών αντιδράσεων αυξήθηκαν κατά 50% τα τελευταία 30 χρόνια.\nΈνας στους τρεις θα αναπτύξει κάποιου είδους αλλεργίακατά τη διάρκεια της ζωής του.\n\n  \nΗ λέξη αλλεργία είναι σύνθετη και προέρχεται από τον συνδυασμό των λέξεων «άλλο + έργο». Ο πρώτος που πρότεινε τον όρο αυτό ήταν ο Αυστριακός παιδίατρος Clemens von Pirquet\, ο οποίος παρατήρησε το 1905 ότι κατά την επαναχορήγηση ετερόλογων ορών\, ορισμένα άτομα αντί ανοσία εμφάνιζαν ορονοσία. Δηλαδή\, το ανοσοποιητικό τους σύστημα αντί να εμφανίζει τη φυσιολογική δραστηριότητα για την οποία έχει ταχθεί από τη φύση\, να εμφανίζει δηλαδή φύλαξη του οργανισμού (ανοσία)\, εμφάνιζε α -φύλαξη (αναφυλαξία) δηλαδή άλλο έργο (αλλεργία). \nΩς αλλεργία χαρακτηρίζεται κάθε ανώμαλη ή υπερβολική αντίδραση (υπερευαισθησία) του ανοσοποιητικού συστήματος του οργανισμού σε ουσίες οι οποίες υπό φυσιολογικές συνθήκες ΔΕΝ είναι επικίνδυνες ή βλαβερές για τον οργανισμό όπως\, γύρεις δένδρων και φυτών\, πρωτεΐνες τροφίμων κλπ. Οι ουσίες αυτές μπορεί να εισέλθουν στο σώμα μέσω της εισπνοής\, της κατάποσης\, ή με την επαφή στο δέρμα. Οι ουσίες που προκαλούν αυτές τις αντιδράσεις ονομάζονται αλλεργιογόνα. \nΤα αλλεργιογόνα μπορούν να προκαλέσουν : \n\nάσθμα\nρινίτιδα\nκνίδωση\nαναφυλαξία\n\n  \nΤα αλλεργιογόνα μπορεί να είναι Τροφικά ή Περιβαλλοντικά. \nΣτα συχνότερα τροφικά αλλεργιογόνα που εμπλέκονται στις αλλεργίες συμπεριλαμβάνονται τα γαλακτοκομικά προϊόντα\, αυγά\, ξηροί καρποί\, οστρακοειδή\, δημητριακά\, φράουλες\, ντομάτα\, σόγια κλπ. \nΣτα δε συχνότερα περιβαλλοντικά αλλεργιογόνα συμπεριλαμβάνονται οι γύρεις των φυτών και δένδρων\, γρασίδια\, ακάρεα σκόνης σπιτιού\, μύκητες\, δηλητήρια εντόμων και κατοικίδια ζώα. \nΠαράγοντες που συμβάλλουν στην εκδήλωση μίας αλλεργικής αντίδρασης θεωρούνται επίσης : \n\nλοιμώξεις του ανώτερου αναπνευστικού συστήματος\, όπως η ιγμορίτιδα αλλά και τα κρυολογήματα.\nκαιρικές συνθήκες\, όπως η απότομη αλλαγή της θερμοκρασίας\, ο κρύος αέρας και η υγρασία.\nατμοσφαιρική ρύπανσηεσωτερικού και εξωτερικού χώρου όπως καυσαέρια\, ρύποι εργοστασίων και αυξημένη χρήση κλιματιστικών συσκευών.\nδιατροφή\, όπου πέραν των συγκεκριμένων τροφικών αλλεργιογόνων στα οποία το άτομο παρουσιάζει αλλεργία\, επιπρόσθετα μία κακή διατροφή μπορεί να επιτείνει το πρόβλημα.\nχημικές ουσίες\, όπως απορρυπαντικά\, σπρέι\, διάφορα καλλυντικά και αρώματα\, καθώς και οι σκόνες στο περιβάλλον και οι οσμές της κουζίνας.\nκάπνισμα\, όπου το παθητικό κάπνισμα ευθύνεται για την εκδήλωση αλλεργίας και βρογχικού άσθματος σε μεγάλο αριθμό παιδιών.\nψυχολογικοί παράγοντες\, όπως είναι οι έντονες συγκινήσεις\, η υπερβολική χαρά και λύπη\, ο θυμός και το άγχος.\n\nΠαράλληλα \, ο μητρικός θηλασμός θεωρείται ότι δρα προστατευτικά στην εκδήλωση αλλεργικών παθήσεων. Οι σημερινές μητέρες έχουν ελάχιστο χρόνο και παρά τις καλές προθέσεις δεν θηλάζουν τα παιδιά τους τόσο όπως γινόταν σε παλαιότερες εποχές \nΤα συμπτώματα εκδηλώνονται  μέσα σε λίγα λεπτά μέχρι και 2 ώρες και μπορεί να είναι :\nεξανθήματα\, οιδήματα\, φαγούρα\, κνίδωση\, έκζεμα\, δερματίτιδα\, επιπεφυκίτιδα\, κοκκινισμένα και ερεθισμένα μάτια\, άσθμα\, ρινίτιδα\, δύσπνοια\, βήχας\, φτάρνισμα\, μπούκωμα\, καταρροή\, αγγειοοίδημα\, ναυτία\, εμετός και διάρροια\, ενώ σε σοβαρότερες περιπτώσεις μπορεί να προκαλέσουν ακόμη και αναφυλαξία (αναφυλακτικό σοκ)\, η οποία είναι μία γενικευμένη αντίδραση στην οποία συμμετέχουν πολλά ζωτικά όργανα του οργανισμού.\nΗ διάγνωση γίνεται από ειδικό αλλεργιολόγο μετά από προσεκτική παρατήρηση και λήψη στοιχείων  ώστε να βρεθεί ποια είναι η αλλεργιογόνα ουσία στην κάθε περίπτωση. Σε συγκεκριμένες  περιπτώσεις μπορεί να ακολουθήσει και ειδική θεραπεία απευαισθητοποίησης (υπό αυστηρές προϋποθέσεις) για την οριστική λύση του προβλήματός του. \nΈπειτα όσο αναφορά την θεραπεία \,η απομάκρυνση και η αποφυγή αλλεργιογόνου  είναι το πιο αποτελεσματικό μέτρο αλλά δεν είναι πάντοτε εφικτό όπως πχ αερομεταφερόμενες γύρεις. Πάντως απαραίτητη κρίνεται τουλάχιστον η μείωση της έκθεσης του ασθενή σε αυτό. \nΤα κυριότερα φάρμακα που χρησιμοποιούνται για έλεγχο των συμπτωμάτων είναι : \n\nαντισταμινικά\nαποσυμφορητικά\nβρογχοδιασταλτικά\nαντιφλεγμονώδη\nαδρεναλίνη\nανοσοθεραπεία\n\nΓια περισσότερες πληροφορίες επισκεφθείτε την Ελληνική Εταιρεία Αλλεργιολογίας και Κλινικής Ανοσολογίας. \n
URL:https://www.healthdays.gr/world-day/%cf%80%ce%b1%ce%b3%ce%ba%cf%8c%cf%83%ce%bc%ce%b9%ce%b1-%ce%b7%ce%bc%ce%ad%cf%81%ce%b1-%ce%b1%ce%bb%ce%bb%ce%b5%cf%81%ce%b3%ce%af%ce%b1%cf%82/2016-07-08/
CATEGORIES:Υγεία
ATTACH;FMTTYPE=image/jpeg:https://www.healthdays.gr/wp-content/uploads/2016/11/Παγκόσμια-Ημέρα-Αλλεργίας.jpg
END:VEVENT
END:VCALENDAR