BEGIN:VCALENDAR
VERSION:2.0
PRODID:-//Health Days - ECPv4.6.20.1//NONSGML v1.0//EN
CALSCALE:GREGORIAN
METHOD:PUBLISH
X-WR-CALNAME:Health Days
X-ORIGINAL-URL:https://www.healthdays.gr
X-WR-CALDESC:Events for Health Days
BEGIN:VEVENT
DTSTART;VALUE=DATE:20160411
DTEND;VALUE=DATE:20160412
DTSTAMP:20260424T124644
CREATED:20161113T115309Z
LAST-MODIFIED:20170102T103538Z
UID:230-1460332800-1460419199@www.healthdays.gr
SUMMARY:Παγκόσμια Ημέρα κατά της Aσθενείας Πάρκινσον
DESCRIPTION:H Παγκόσμια Ημέρα κατά της Ασθένειας του Πάρκινσον καθιερώθηκε το 1997 με πρωτοβουλία της Ευρωπαικής Ένωσης για την Ασθένεια Πάρκινσον και την υποστήριξη του Παγκόσμιου Οργανισμού Υγείας. Γιορτάζεται κάθε χρόνο στις 11 Απριλίου \, την ημερομηνία γεννήθηκε το 1775 ο άγγλος ιατρός Τζέιμς Πάρκινσον . Το 1817 την ανακάλυψε και από εκείνον πήρε το όνομά της. \nΗ νόσος του Πάρκινσον είναι μια πάθηση που επηρεάζει την κίνηση του σώματος. Τα άτομα με νόσο του Πάρκινσον έχουν προβλήματα με τον έλεγχο των μυών του σώματος λόγω διακοπής των μηνυμάτων από τον εγκέφαλο. Δεν γνωρίζουμε τις αιτίες της\, αλλά τα άτομα με νόσο του Πάρκινσον έχουν χαμηλά επίπεδα μιας χημικής ουσίας του εγκεφάλου η οποία ονομάζεται ντοπαμίνη. Η ντοπαμίνη βοηθά τον εγκέφαλο να ελέγχει τους μύες και να κινεί το σώμα ομαλά και εύκολα. Με το πέρασμα του χρόνου\, τα άτομα με νόσο του Πάρκινσον έχουν όλο και λιγότερη ντοπαμίνη\, κάνοντας την κίνηση όλο και πιο δύσκολη. \n  \nΣυσκεκριμένα τα στατιστικά στοιχεία δείχνουν ότι : \n\nΠερισσότεροι από 1\,5 εκατομμύριο άνθρωποι ζουν με τη νόσο του Πάρκινσον στην Ευρώπη σήμερα και αυτός ο αριθμός αναμένεται να διπλασιαστεί μέχρι το 2030.\n000 οι πάσχοντες από νόσο Πάρκινσον στην Ελλάδα\nΗ οικονομική επίπτωση της νόσου είναι τεράστια – το ετήσιο ευρωπαϊκό κόστος υπολογίζεται σε € 16 δισεκατομμύρια.\nΩστόσο\, η νόσος του Πάρκινσον είναι απλά μία από τις πολλές νευροεκφυλιστικές διαταραχές\, οι οποίες θα ξεπεράσουν τον καρκίνο σε συχνότητα εμφάνισης μέχρι το 2040 (ΠΟΥ)\n\nΗ νόσος του Πάρκινσον εξελίσσεται αργά. Μπορεί να πάρει πολλά χρόνια πριν αρχίσουν τα συμπτώματα να προκαλούν κύρια προβλήματα με την καθημερινή ζωή. Όταν συμβεί αυτό\, πολλά από αυτά τα συμπτώματα μπορούν να αντιμετωπιστούν με θεραπευτική αγωγή και υποστήριξη.Επηρεάζει κάθε άτομο διαφορετικά και τα συμπτώματα μπορούν να ποικίλλουν σε διαφορετικές ημέρες. \nTα κύρια συμπτώματα της νόσου του Πάρκινσον είναι: \n\nΤρόμος (Τρέμουλο): τρόμος (τρέμουλο) ή τρεμούλιασμα σε ένα μέρος του σώματος\, όπως το χέρι\, το πόδι ή το κεφάλι. Αυτή η κίνηση είναι αυτόματη και εκτός του ελέγχου του ατόμου. Ο τρόμος συνήθως συμβαίνει όταν το άτομο αναπαύεται.\nΣφιχτοί μύες: μύες όπως οι μύες του ποδιού\, του σβέρκου ή του προσώπου μπορεί να φαίνονται ή να αισθάνονται σφιχτοί. Τα άτομα με νόσο του Πάρκινσον μπορεί μερικές φορές να αισθάνονται τόσο σφιχτούς τους μύες τους που να αισθάνονται παγωμένα και ανίκανα να κινηθούν.\nΑργή κίνηση: η κίνηση μπορεί να είναι αργή και τα άτομα μπορεί να κάνουν μικρά βήματα ή να σέρνουν τα πόδια τους όταν βαδίζουν. Μικρές κινήσεις όπως γραφή\, δακτυλογράφηση\, ξύρισμα ή κούμπωμα ενδυμάτων μπορεί να είναι δύσκολες.\nΠροβλήματα ισορροπίας ή δυσκολία παραμονής σε όρθια στάση.\n\nΆλλα προβλήματα που μπορούν να επηρεάσουν τα άτομα με νόσο του Πάρκινσον περιλαμβάνουν: \n\nΚούραση ή εξάντληση\nΛύπη ή κατάθλιψη\nΠροβλήματα με ισορροπία\nΔυσκοιλιότητα\nΔυσκολία στην ομιλία ή στην κατανάλωση τροφής ή ποτού\nΠροβλήματα στην εκτέλεση περισσότερων του ενός πραγμάτων συγχρόνως.\n\n  \nΗ νόσος του Πάρκινσον δεν προκαλεί θάνατο  και τα άτομα μπορούν να εξακολουθούν να απολαμβάνουν μακροβιότητα και παραγωγική ζωή με τη νόσο του Πάρκινσον.  Οποιοδήποτε ενήλικο άτομο μπορεί να πάθει νόσο του Πάρκινσον. \nΕίναι μια από τις πιο συνηθισμένες εγκεφαλικές παθήσεις: \n\nΕίναι πιο συνηθισμένη ανάμεσα σε άτομα ηλικίας πάνω από 60 χρονών.\nΜπορεί να επηρεάζει ενηλίκους οποιασδήποτε ηλικίας.\nΕπηρεάζει τόσο άντρες όσο και γυναίκες από όλες τις κουλτούρες και στιλ ζωής.\nΔεν είναι κολλητική\, που σημαίνει ότι δεν μπορείτε να την κολλήσετε ή να τη μεταδώσετε σε κάποιον άλλον.\nΔεν είναι συνήθως κληρονομική.\n\n  \nΗ διάγνωση της ασθένειας πρέπει πάντα να πραγματοποιείται από ένας έμπειρο νευρολόγο. Πάντως τα πρώτα σημάδια της νόσου είναι : \n\nελαφρό τρεμούλιασμα\nπροβλήματα με τη γραφή\, το ξύρισμα ή το κούμπωμα κουμπιών\nταλάντευση μπράτσου κατά το βάδισμα\n\nΔεν έχει βρεθεί αποτελεσματική θεραπεία της νόσου για αυτό το λόγο μπορούμε να την προλάβουμε με τους εξής τρόπους : \n\nτακτικό βάδισμα και άσκηση\nαποφυγή δυσκοιλιότητας με κατανάλωση αρκετού νερού και φυτικών ινών\nαρκετός και ποιοτικός ύπνος\n\n  \n  \nΓια περισσότερες πληροφορίες επισκεφθείτε τον Σύλλογο Παρκινσονικών και την Ελληνική Εταιρεία εθελοντών και ασθενών για την νόσο Πάρκινσον. \n
URL:https://www.healthdays.gr/world-day/%cf%80%ce%b1%ce%b3%ce%ba%cf%8c%cf%83%ce%bc%ce%b9%ce%b1-%ce%b7%ce%bc%ce%ad%cf%81%ce%b1-%ce%ba%ce%b1%cf%84%ce%ac-%cf%84%ce%b7%cf%82-a%cf%83%ce%b8%ce%b5%ce%bd%ce%b5%ce%af%ce%b1%cf%82-%cf%80%ce%ac%cf%81/2016-04-11/
CATEGORIES:Υγεία
ATTACH;FMTTYPE=image/png:https://www.healthdays.gr/wp-content/uploads/2016/11/Παγκόσμια-Ημέρα-κατά-της-Ασθένειας-Πάρκινσον.png
END:VEVENT
END:VCALENDAR