BEGIN:VCALENDAR
VERSION:2.0
PRODID:-//Health Days - ECPv4.6.20.1//NONSGML v1.0//EN
CALSCALE:GREGORIAN
METHOD:PUBLISH
X-WR-CALNAME:Health Days
X-ORIGINAL-URL:https://www.healthdays.gr
X-WR-CALDESC:Events for Health Days
BEGIN:VEVENT
DTSTART;VALUE=DATE:20160324
DTEND;VALUE=DATE:20160325
DTSTAMP:20260421T113142
CREATED:20161113T115159Z
LAST-MODIFIED:20170102T103850Z
UID:228-1458777600-1458863999@www.healthdays.gr
SUMMARY:Παγκόσμια Ημέρα κατά της Φυματίωσης
DESCRIPTION:Κάθε χρόνο στις 24 Μαρτίου γιορτάζεται η Παγκόσμια Ημέρα κατά της Φυματίωσης . Η ημέρα καθιερώθηκε από την Διεθνή Ένωση κατά της Φυματίωσης και την Παγκόσμια Οργάνωση Υγείας. Στόχος της εορτής είναι η υπενθύμιση της ανθεκτικότητας του ιού που συνεχίζει και πλήττει εκατομμύρια ανθρώπους κάθε χρόνο. Φυματίωση είναι η μολυσματική νόσος που προκαλείται από το μυοβακτήριο της φυματίωσης και προσβάλλει κυρίως τον πνεύμονα. Πρωτοανακαλύφθηκε το 1882 από τον Γερμανό ιατρό Ρόμπερτ Κοχ \, ο οποίος βοήθησε πολυ στην διάγνωση\, θεραπεία και εν δυνάμει εξάλειψή της . Οι περιοχές με σοβαρό πρόβλημα φυματίωσης είναι η Αφρική\, η Ασία\, η Νότιος Αφρική και η Ανατολική Ευρώπη. \nΣτην Ελλάδα παρατηρείται ότι : \n\nδηλώνονται περί τα 600 νέα κρούσματα ετησίως\nτο ποσοστό συμμετοχής των αλλοδαπών στη διαμόρφωση του ολικού αριθμού των περιστατικών φυματίωσης στη χώρα μας αυξάνεται συνεχώς – από 12% το 1998 σε 32% το 2005\, ενώ το 2010 έφτασε στο 47%\nσήμερα υπολογίζεται ότι είναι πάνω από 50%\n\nH νόσος μεταδίδεται μέσω  μικροσταγονιδίων που εκπέμπονται προς το περιβάλλον από τους πάσχοντες όταν βήχουν\, φταρνίζονται\, γελούν κλπ. Όσοι πάσχουν από AIDS \, λαμβάνουν κορτιζόνη ή είναι διαβητικοί διατρέχουν μεγαλύτερο κίνδυνο να προσβληθούν. \n  \nΣυμπτώματα της νόσου είναι τα εξής : \n\nβήχας\nδύσπνοια\nπυρετός – υψηλός ή δέκατα\nαιμόφυρτα πτύελα\n\n  \nΤο μόνο διαθέσιμο εμβόλιο από το 2011 κατά της φυματίωσης είναι ο βάκιλος Calmette-Guerin (BCG). Τα ποσοστά θεραπείας ξεπερνούν το 90-95%.Το αντιφυματικό εμβόλιο (ΒCG) έχει αποδειχτεί αποτελεσματικό κατά της κεγχροειδούς φυματίωσης στην παιδική ηλικία\, αλλά δεν παρέχει επαρκή προστασία κατά της μεταδοτικής πνευμονικής φυματίωσης. Νέα εμβόλια βρίσκονται στο στάδιο ανάπτυξης. \n  \nΓια περισσότερες πληροφορίες επισκεφθείτε το Κέντρο Ελέγχου και Πρόληψης Νοσημάτων \n
URL:https://www.healthdays.gr/world-day/%cf%80%ce%b1%ce%b3%ce%ba%cf%8c%cf%83%ce%bc%ce%b9%ce%b1-%ce%b7%ce%bc%ce%ad%cf%81%ce%b1-%ce%ba%ce%b1%cf%84%ce%ac-%cf%84%ce%b7%cf%82-%cf%86%cf%85%ce%bc%ce%b1%cf%84%ce%af%cf%89%cf%83%ce%b7%cf%82/2016-03-24/
CATEGORIES:Υγεία
ATTACH;FMTTYPE=image/jpeg:https://www.healthdays.gr/wp-content/uploads/2016/11/Παγκόσμια-Ημέρα-κατά-της-Φυματίωσης.jpg
END:VEVENT
END:VCALENDAR